BEGIN:VCALENDAR
VERSION:2.0
PRODID:-//Elmhurst University - ECPv6.15.20//NONSGML v1.0//EN
CALSCALE:GREGORIAN
METHOD:PUBLISH
X-ORIGINAL-URL:https://www.elmhurst.edu
X-WR-CALDESC:Events for Elmhurst University
REFRESH-INTERVAL;VALUE=DURATION:PT1H
X-Robots-Tag:noindex
X-PUBLISHED-TTL:PT1H
BEGIN:VTIMEZONE
TZID:America/Chicago
BEGIN:DAYLIGHT
TZOFFSETFROM:-0600
TZOFFSETTO:-0500
TZNAME:CDT
DTSTART:20220313T080000
END:DAYLIGHT
BEGIN:STANDARD
TZOFFSETFROM:-0500
TZOFFSETTO:-0600
TZNAME:CST
DTSTART:20221106T070000
END:STANDARD
BEGIN:DAYLIGHT
TZOFFSETFROM:-0600
TZOFFSETTO:-0500
TZNAME:CDT
DTSTART:20230312T080000
END:DAYLIGHT
BEGIN:STANDARD
TZOFFSETFROM:-0500
TZOFFSETTO:-0600
TZNAME:CST
DTSTART:20231105T070000
END:STANDARD
BEGIN:DAYLIGHT
TZOFFSETFROM:-0600
TZOFFSETTO:-0500
TZNAME:CDT
DTSTART:20240310T080000
END:DAYLIGHT
BEGIN:STANDARD
TZOFFSETFROM:-0500
TZOFFSETTO:-0600
TZNAME:CST
DTSTART:20241103T070000
END:STANDARD
END:VTIMEZONE
BEGIN:VEVENT
DTSTART;TZID=America/Chicago:20231113T113000
DTEND;TZID=America/Chicago:20231117T130000
DTSTAMP:20260423T052526
CREATED:20231107T192308Z
LAST-MODIFIED:20231107T192308Z
UID:51625-1699875000-1700226000@www.elmhurst.edu
SUMMARY:International Education Week
DESCRIPTION:
URL:https://www.elmhurst.edu/event/2023-11-13-international-education-week/
LOCATION:Frick Center\, Founders Lounge\, 190 Prospect Ave.\, Elmhurst\, IL\, 60126\, United States
CATEGORIES:Academics,Student Activities,WCCPE
ORGANIZER;CN="Tony Marotta":MAILTO:tony.marotta@elmhurst.edu
END:VEVENT
BEGIN:VEVENT
DTSTART;TZID=America/Chicago:20231117T090000
DTEND;TZID=America/Chicago:20231117T094500
DTSTAMP:20260423T052526
CREATED:20230822T213814Z
LAST-MODIFIED:20230822T213814Z
UID:49621-1700211600-1700214300@www.elmhurst.edu
SUMMARY:Nursing Simulation Lab Tour
DESCRIPTION:
URL:https://www.elmhurst.edu/event/nursing-simulation-lab-tour-11/
LOCATION:Elmhurst Hospital\, 155 E Brush Hill Rd\, Elmhurst\, IL\, 60126\, United States
CATEGORIES:Academics,Admission
ORGANIZER;CN="Lauren Lehmann":MAILTO:lauren.lehmann@elmhurst.edu
END:VEVENT
BEGIN:VEVENT
DTSTART;TZID=America/Chicago:20231117T100000
DTEND;TZID=America/Chicago:20231117T130000
DTSTAMP:20260423T052526
CREATED:20230815T155427Z
LAST-MODIFIED:20230817T212151Z
UID:49311-1700215200-1700226000@www.elmhurst.edu
SUMMARY:ELSA Preview Day
DESCRIPTION:
URL:https://www.elmhurst.edu/event/elsa-preview-day-november/
LOCATION:Frick Center\, Prospect Room\, 190 Prospect Ave\, Elmhurst\, IL\, 60126\, United States
CATEGORIES:Admission
ORGANIZER;CN="Tim Ahlberg":MAILTO:elsa@elmhurst.edu
END:VEVENT
BEGIN:VEVENT
DTSTART;TZID=America/Chicago:20231117T190000
DTEND;TZID=America/Chicago:20231117T210000
DTSTAMP:20260423T052526
CREATED:20230822T152815Z
LAST-MODIFIED:20230922T194943Z
UID:49556-1700247600-1700254800@www.elmhurst.edu
SUMMARY:What You Will\, or Twelfth Night
DESCRIPTION:
URL:https://www.elmhurst.edu/event/what-you-will-or-twelfth-night-6/
LOCATION:Mill Theatre\, 253 Walter St\, Elmhurst\, IL\, 60126\, United States
CATEGORIES:Theatre
ORGANIZER;CN="Elmhurst University Mill Theatre":MAILTO:mill@elmhurst.edu
END:VEVENT
END:VCALENDAR