BEGIN:VCALENDAR
VERSION:2.0
PRODID:-//Elmhurst University - ECPv6.15.20//NONSGML v1.0//EN
CALSCALE:GREGORIAN
METHOD:PUBLISH
X-WR-CALNAME:Elmhurst University
X-ORIGINAL-URL:https://www.elmhurst.edu
X-WR-CALDESC:Events for Elmhurst University
REFRESH-INTERVAL;VALUE=DURATION:PT1H
X-Robots-Tag:noindex
X-PUBLISHED-TTL:PT1H
BEGIN:VTIMEZONE
TZID:America/Chicago
BEGIN:DAYLIGHT
TZOFFSETFROM:-0600
TZOFFSETTO:-0500
TZNAME:CDT
DTSTART:20220313T080000
END:DAYLIGHT
BEGIN:STANDARD
TZOFFSETFROM:-0500
TZOFFSETTO:-0600
TZNAME:CST
DTSTART:20221106T070000
END:STANDARD
BEGIN:DAYLIGHT
TZOFFSETFROM:-0600
TZOFFSETTO:-0500
TZNAME:CDT
DTSTART:20230312T080000
END:DAYLIGHT
BEGIN:STANDARD
TZOFFSETFROM:-0500
TZOFFSETTO:-0600
TZNAME:CST
DTSTART:20231105T070000
END:STANDARD
BEGIN:DAYLIGHT
TZOFFSETFROM:-0600
TZOFFSETTO:-0500
TZNAME:CDT
DTSTART:20240310T080000
END:DAYLIGHT
BEGIN:STANDARD
TZOFFSETFROM:-0500
TZOFFSETTO:-0600
TZNAME:CST
DTSTART:20241103T070000
END:STANDARD
END:VTIMEZONE
BEGIN:VEVENT
DTSTART;TZID=America/Chicago:20231201T090000
DTEND;TZID=America/Chicago:20231201T094500
DTSTAMP:20260421T041141
CREATED:20230822T214240Z
LAST-MODIFIED:20230822T214240Z
UID:49624-1701421200-1701423900@www.elmhurst.edu
SUMMARY:Nursing Simulation Lab Tour
DESCRIPTION:
URL:https://www.elmhurst.edu/event/nursing-simulation-lab-tour-12/
LOCATION:Elmhurst Hospital\, 155 E Brush Hill Rd\, Elmhurst\, IL\, 60126\, United States
CATEGORIES:Academics,Admission
ORGANIZER;CN="Lauren Lehmann":MAILTO:lauren.lehmann@elmhurst.edu
END:VEVENT
BEGIN:VEVENT
DTSTART;TZID=America/Chicago:20231201T160000
DTEND;TZID=America/Chicago:20231201T210000
DTSTAMP:20260421T041141
CREATED:20231107T180810Z
LAST-MODIFIED:20231107T180810Z
UID:51619-1701446400-1701464400@www.elmhurst.edu
SUMMARY:Festival of Lessons & Carols
DESCRIPTION:
URL:https://www.elmhurst.edu/event/2023-12-01-festival-of-lessons-carols/
LOCATION:Hammerschmidt Memorial Chapel\, 190 Prospect Ave.\, Elmhurst\, IL\, 60126\, United States
CATEGORIES:Community Events,Music
ORGANIZER;CN="Scott Matheney":MAILTO:hscottm@elmhurst.edu
END:VEVENT
BEGIN:VEVENT
DTSTART;TZID=America/Chicago:20231201T203000
DTEND;TZID=America/Chicago:20231201T220000
DTSTAMP:20260421T041141
CREATED:20231017T212037Z
LAST-MODIFIED:20231101T180758Z
UID:51235-1701462600-1701468000@www.elmhurst.edu
SUMMARY:A Festival of Lessons & Carols: All Alumni Gathering
DESCRIPTION:
URL:https://www.elmhurst.edu/event/a-festival-of-lessons-carols-all-alumni-gathering/
LOCATION:Chaplain Matheney’s Home\, 255 Elm Park Ave.\, 255 Elm Park Ave.\, Elmhurst\, IL\, 60126\, United States
CATEGORIES:Alumni
ORGANIZER;CN="Office of Institutional Advancement":MAILTO:alumni@elmhurst.edu
END:VEVENT
END:VCALENDAR