BEGIN:VCALENDAR
VERSION:2.0
PRODID:-//Elmhurst University - ECPv6.15.20//NONSGML v1.0//EN
CALSCALE:GREGORIAN
METHOD:PUBLISH
X-ORIGINAL-URL:https://www.elmhurst.edu
X-WR-CALDESC:Events for Elmhurst University
REFRESH-INTERVAL;VALUE=DURATION:PT1H
X-Robots-Tag:noindex
X-PUBLISHED-TTL:PT1H
BEGIN:VTIMEZONE
TZID:America/Chicago
BEGIN:DAYLIGHT
TZOFFSETFROM:-0600
TZOFFSETTO:-0500
TZNAME:CDT
DTSTART:20230312T080000
END:DAYLIGHT
BEGIN:STANDARD
TZOFFSETFROM:-0500
TZOFFSETTO:-0600
TZNAME:CST
DTSTART:20231105T070000
END:STANDARD
BEGIN:DAYLIGHT
TZOFFSETFROM:-0600
TZOFFSETTO:-0500
TZNAME:CDT
DTSTART:20240310T080000
END:DAYLIGHT
BEGIN:STANDARD
TZOFFSETFROM:-0500
TZOFFSETTO:-0600
TZNAME:CST
DTSTART:20241103T070000
END:STANDARD
BEGIN:DAYLIGHT
TZOFFSETFROM:-0600
TZOFFSETTO:-0500
TZNAME:CDT
DTSTART:20250309T080000
END:DAYLIGHT
BEGIN:STANDARD
TZOFFSETFROM:-0500
TZOFFSETTO:-0600
TZNAME:CST
DTSTART:20251102T070000
END:STANDARD
END:VTIMEZONE
BEGIN:VEVENT
DTSTART;TZID=America/Chicago:20240426T090000
DTEND;TZID=America/Chicago:20240426T100000
DTSTAMP:20260423T103202
CREATED:20231215T200532Z
LAST-MODIFIED:20231215T200532Z
UID:52470-1714122000-1714125600@www.elmhurst.edu
SUMMARY:Nursing Simulation Lab Tour
DESCRIPTION:
URL:https://www.elmhurst.edu/event/nursing-simulation-lab-tour-19/
LOCATION:Elmhurst Hospital\, 155 E Brush Hill Rd\, Elmhurst\, IL\, 60126\, United States
CATEGORIES:Admission
ORGANIZER;CN="Lauren Lehmann":MAILTO:lauren.lehmann@elmhurst.edu
END:VEVENT
BEGIN:VEVENT
DTSTART;TZID=America/Chicago:20240426T173000
DTEND;TZID=America/Chicago:20240426T200000
DTSTAMP:20260423T103202
CREATED:20231206T163054Z
LAST-MODIFIED:20231206T163054Z
UID:52279-1714152600-1714161600@www.elmhurst.edu
SUMMARY:St. Louis Alumni & Friends Gathering
DESCRIPTION:
URL:https://www.elmhurst.edu/event/2024-04-26-st-louis-alumni-friends-gathering/
LOCATION:Missouri Athletic Club\, 405 Washington Ave\, St. Louis\, Missouri 63102\, 405 Washington Ave\, St. Louis\, MO\, 63102\, United States
CATEGORIES:Alumni
ORGANIZER;CN="Amy Young":MAILTO:amy.young@elmhurst.edu
END:VEVENT
BEGIN:VEVENT
DTSTART;TZID=America/Chicago:20240426T190000
DTEND;TZID=America/Chicago:20240426T210000
DTSTAMP:20260423T103202
CREATED:20230929T211939Z
LAST-MODIFIED:20240411T145725Z
UID:50787-1714158000-1714165200@www.elmhurst.edu
SUMMARY:God of Carnage
DESCRIPTION:
URL:https://www.elmhurst.edu/event/2024-04-26-god-of-carnage/
LOCATION:Mill Theatre\, 253 Walter St\, Elmhurst\, IL\, 60126\, United States
CATEGORIES:Theatre
ORGANIZER;CN="Elmhurst University Mill Theatre":MAILTO:mill@elmhurst.edu
END:VEVENT
BEGIN:VEVENT
DTSTART;TZID=America/Chicago:20240426T193000
DTEND;TZID=America/Chicago:20240426T213000
DTSTAMP:20260423T103202
CREATED:20240110T205108Z
LAST-MODIFIED:20240110T205108Z
UID:52756-1714159800-1714167000@www.elmhurst.edu
SUMMARY:Flute Studio Recital
DESCRIPTION:
URL:https://www.elmhurst.edu/event/2024-04-26-flute-studio-recital/
LOCATION:Irion Hall\, Buik Recital Hall\, 190 Prospect Ave\, Elmhurst\, IL\, 60126\, United States
CATEGORIES:Music
ORGANIZER;CN="Trish Thoren":MAILTO:walterp@elmhurst.edu
END:VEVENT
END:VCALENDAR