BEGIN:VCALENDAR
VERSION:2.0
PRODID:-//Elmhurst University - ECPv6.15.20//NONSGML v1.0//EN
CALSCALE:GREGORIAN
METHOD:PUBLISH
X-ORIGINAL-URL:https://www.elmhurst.edu
X-WR-CALDESC:Events for Elmhurst University
REFRESH-INTERVAL;VALUE=DURATION:PT1H
X-Robots-Tag:noindex
X-PUBLISHED-TTL:PT1H
BEGIN:VTIMEZONE
TZID:America/Chicago
BEGIN:DAYLIGHT
TZOFFSETFROM:-0600
TZOFFSETTO:-0500
TZNAME:CDT
DTSTART:20240310T080000
END:DAYLIGHT
BEGIN:STANDARD
TZOFFSETFROM:-0500
TZOFFSETTO:-0600
TZNAME:CST
DTSTART:20241103T070000
END:STANDARD
BEGIN:DAYLIGHT
TZOFFSETFROM:-0600
TZOFFSETTO:-0500
TZNAME:CDT
DTSTART:20250309T080000
END:DAYLIGHT
BEGIN:STANDARD
TZOFFSETFROM:-0500
TZOFFSETTO:-0600
TZNAME:CST
DTSTART:20251102T070000
END:STANDARD
BEGIN:DAYLIGHT
TZOFFSETFROM:-0600
TZOFFSETTO:-0500
TZNAME:CDT
DTSTART:20260308T080000
END:DAYLIGHT
BEGIN:STANDARD
TZOFFSETFROM:-0500
TZOFFSETTO:-0600
TZNAME:CST
DTSTART:20261101T070000
END:STANDARD
END:VTIMEZONE
BEGIN:VEVENT
DTSTART;TZID=America/Chicago:20250305T080000
DTEND;TZID=America/Chicago:20250305T163000
DTSTAMP:20260420T063237
CREATED:20250205T152538Z
LAST-MODIFIED:20250205T152638Z
UID:58526-1741161600-1741192200@www.elmhurst.edu
SUMMARY:Ash Wednesday - Imposition of Ashes for Entire Campus Community
DESCRIPTION:
URL:https://www.elmhurst.edu/event/ash-wednesday-imposition-of-ashes-for-entire-campus-community/
LOCATION:Hammerschmidt Memorial Chapel\, 190 Prospect Ave.\, Elmhurst\, IL\, 60126\, United States
CATEGORIES:Community Events
ORGANIZER;CN="Scott Matheney":MAILTO:hscottm@elmhurst.edu
END:VEVENT
END:VCALENDAR