BEGIN:VCALENDAR
VERSION:2.0
PRODID:-//Elmhurst University - ECPv6.15.20//NONSGML v1.0//EN
CALSCALE:GREGORIAN
METHOD:PUBLISH
X-WR-CALNAME:Elmhurst University
X-ORIGINAL-URL:https://www.elmhurst.edu
X-WR-CALDESC:Events for Elmhurst University
REFRESH-INTERVAL;VALUE=DURATION:PT1H
X-Robots-Tag:noindex
X-PUBLISHED-TTL:PT1H
BEGIN:VTIMEZONE
TZID:America/Chicago
BEGIN:DAYLIGHT
TZOFFSETFROM:-0600
TZOFFSETTO:-0500
TZNAME:CDT
DTSTART:20250309T080000
END:DAYLIGHT
BEGIN:STANDARD
TZOFFSETFROM:-0500
TZOFFSETTO:-0600
TZNAME:CST
DTSTART:20251102T070000
END:STANDARD
BEGIN:DAYLIGHT
TZOFFSETFROM:-0600
TZOFFSETTO:-0500
TZNAME:CDT
DTSTART:20260308T080000
END:DAYLIGHT
BEGIN:STANDARD
TZOFFSETFROM:-0500
TZOFFSETTO:-0600
TZNAME:CST
DTSTART:20261101T070000
END:STANDARD
BEGIN:DAYLIGHT
TZOFFSETFROM:-0600
TZOFFSETTO:-0500
TZNAME:CDT
DTSTART:20270314T080000
END:DAYLIGHT
BEGIN:STANDARD
TZOFFSETFROM:-0500
TZOFFSETTO:-0600
TZNAME:CST
DTSTART:20271107T070000
END:STANDARD
END:VTIMEZONE
BEGIN:VEVENT
DTSTART;TZID=America/Chicago:20260206T144500
DTEND;TZID=America/Chicago:20260206T154500
DTSTAMP:20260421T112603
CREATED:20260127T202714Z
LAST-MODIFIED:20260127T202955Z
UID:65958-1770389100-1770392700@www.elmhurst.edu
SUMMARY:Nursing Sim Lab Tour - February 2026
DESCRIPTION:
URL:https://www.elmhurst.edu/event/nursing-sim-lab-tour-february-2026/
LOCATION:Health Sciences Building
CATEGORIES:Admission
ORGANIZER;CN="Lauren Lehmann":MAILTO:lauren.lehmann@elmhurst.edu
END:VEVENT
BEGIN:VEVENT
DTSTART;TZID=America/Chicago:20260206T193000
DTEND;TZID=America/Chicago:20260206T213000
DTSTAMP:20260421T112603
CREATED:20260129T190057Z
LAST-MODIFIED:20260129T190057Z
UID:66031-1770406200-1770413400@www.elmhurst.edu
SUMMARY:Church and State
DESCRIPTION:
URL:https://www.elmhurst.edu/event/church-and-state-2/
LOCATION:Mill Theatre\, 253 Walter St\, Elmhurst\, IL\, 60126\, United States
CATEGORIES:Theatre
ORGANIZER;CN="Elmhurst University Mill Theatre":MAILTO:mill@elmhurst.edu
END:VEVENT
END:VCALENDAR