BEGIN:VCALENDAR
VERSION:2.0
PRODID:-//Elmhurst University - ECPv6.15.20//NONSGML v1.0//EN
CALSCALE:GREGORIAN
METHOD:PUBLISH
X-WR-CALNAME:Elmhurst University
X-ORIGINAL-URL:https://www.elmhurst.edu
X-WR-CALDESC:Events for Elmhurst University
REFRESH-INTERVAL;VALUE=DURATION:PT1H
X-Robots-Tag:noindex
X-PUBLISHED-TTL:PT1H
BEGIN:VTIMEZONE
TZID:America/Chicago
BEGIN:DAYLIGHT
TZOFFSETFROM:-0600
TZOFFSETTO:-0500
TZNAME:CDT
DTSTART:20240310T080000
END:DAYLIGHT
BEGIN:STANDARD
TZOFFSETFROM:-0500
TZOFFSETTO:-0600
TZNAME:CST
DTSTART:20241103T070000
END:STANDARD
BEGIN:DAYLIGHT
TZOFFSETFROM:-0600
TZOFFSETTO:-0500
TZNAME:CDT
DTSTART:20250309T080000
END:DAYLIGHT
BEGIN:STANDARD
TZOFFSETFROM:-0500
TZOFFSETTO:-0600
TZNAME:CST
DTSTART:20251102T070000
END:STANDARD
BEGIN:DAYLIGHT
TZOFFSETFROM:-0600
TZOFFSETTO:-0500
TZNAME:CDT
DTSTART:20260308T080000
END:DAYLIGHT
BEGIN:STANDARD
TZOFFSETFROM:-0500
TZOFFSETTO:-0600
TZNAME:CST
DTSTART:20261101T070000
END:STANDARD
END:VTIMEZONE
BEGIN:VEVENT
DTSTART;TZID=America/Chicago:20250111T081500
DTEND;TZID=America/Chicago:20250111T120000
DTSTAMP:20260422T060149
CREATED:20241205T065433Z
LAST-MODIFIED:20241209T142530Z
UID:57182-1736583300-1736596800@www.elmhurst.edu
SUMMARY:Nursing Information Session - January 2025
DESCRIPTION:
URL:https://www.elmhurst.edu/event/nursing-information-session-3/
LOCATION:Elmhurst Hospital\, 155 E. Brush Hill Rd.\, Elmhurst\, IL 60126
CATEGORIES:Academics,Admission
ORGANIZER;CN="Megan Alderson":MAILTO:megan.wajda@elmhurst.edu
END:VEVENT
BEGIN:VEVENT
DTSTART;TZID=America/Chicago:20250114T170000
DTEND;TZID=America/Chicago:20250114T180000
DTSTAMP:20260422T060149
CREATED:20240730T133115Z
LAST-MODIFIED:20250106T141737Z
UID:55139-1736874000-1736877600@www.elmhurst.edu
SUMMARY:Health Professions Advising Information Session - January 2025
DESCRIPTION:
URL:https://www.elmhurst.edu/event/2025-01-14-health-professions-advising-information-session/
LOCATION:Virtual (Zoom)
CATEGORIES:Academics,Admission
ORGANIZER;CN="Megan Alderson":MAILTO:megan.wajda@elmhurst.edu
END:VEVENT
BEGIN:VEVENT
DTSTART;TZID=America/Chicago:20250114T173000
DTEND;TZID=America/Chicago:20250114T193000
DTSTAMP:20260422T060149
CREATED:20241026T092015Z
LAST-MODIFIED:20241209T142620Z
UID:56726-1736875800-1736883000@www.elmhurst.edu
SUMMARY:Transfer Admission Night - January 2025
DESCRIPTION:
URL:https://www.elmhurst.edu/event/transfer-admission-night/
LOCATION:Frick Center\, Founders Lounge\, 190 Prospect Ave.\, Elmhurst\, IL\, 60126\, United States
CATEGORIES:Academics,Admission
ORGANIZER;CN="Megan Alderson":MAILTO:megan.wajda@elmhurst.edu
END:VEVENT
END:VCALENDAR