BEGIN:VCALENDAR
VERSION:2.0
PRODID:-//Elmhurst University - ECPv6.15.20//NONSGML v1.0//EN
CALSCALE:GREGORIAN
METHOD:PUBLISH
X-ORIGINAL-URL:https://www.elmhurst.edu
X-WR-CALDESC:Events for Elmhurst University
REFRESH-INTERVAL;VALUE=DURATION:PT1H
X-Robots-Tag:noindex
X-PUBLISHED-TTL:PT1H
BEGIN:VTIMEZONE
TZID:America/Chicago
BEGIN:DAYLIGHT
TZOFFSETFROM:-0600
TZOFFSETTO:-0500
TZNAME:CDT
DTSTART:20240310T080000
END:DAYLIGHT
BEGIN:STANDARD
TZOFFSETFROM:-0500
TZOFFSETTO:-0600
TZNAME:CST
DTSTART:20241103T070000
END:STANDARD
BEGIN:DAYLIGHT
TZOFFSETFROM:-0600
TZOFFSETTO:-0500
TZNAME:CDT
DTSTART:20250309T080000
END:DAYLIGHT
BEGIN:STANDARD
TZOFFSETFROM:-0500
TZOFFSETTO:-0600
TZNAME:CST
DTSTART:20251102T070000
END:STANDARD
BEGIN:DAYLIGHT
TZOFFSETFROM:-0600
TZOFFSETTO:-0500
TZNAME:CDT
DTSTART:20260308T080000
END:DAYLIGHT
BEGIN:STANDARD
TZOFFSETFROM:-0500
TZOFFSETTO:-0600
TZNAME:CST
DTSTART:20261101T070000
END:STANDARD
END:VTIMEZONE
BEGIN:VEVENT
DTSTART;TZID=America/Chicago:20251121T083000
DTEND;TZID=America/Chicago:20251121T113000
DTSTAMP:20260423T051215
CREATED:20251020T181701Z
LAST-MODIFIED:20251020T181701Z
UID:64612-1763713800-1763724600@www.elmhurst.edu
SUMMARY:First Look Friday
DESCRIPTION:
URL:https://www.elmhurst.edu/event/first-look-friday-3/
LOCATION:Jean Koplin Memorial Hall
CATEGORIES:Admission
ORGANIZER;CN="Megan Alderson":MAILTO:megan.wajda@elmhurst.edu
END:VEVENT
BEGIN:VEVENT
DTSTART;TZID=America/Chicago:20251121T093000
DTEND;TZID=America/Chicago:20251121T130000
DTSTAMP:20260423T051215
CREATED:20250731T164335Z
LAST-MODIFIED:20250811T162339Z
UID:63285-1763717400-1763730000@www.elmhurst.edu
SUMMARY:ELSA Preview Day - November 2025
DESCRIPTION:
URL:https://www.elmhurst.edu/event/elsa-preview-day-3/
LOCATION:Frick Center\, Alexander Room
CATEGORIES:Academics,Admission
ORGANIZER;CN="Tim Ahlberg":MAILTO:elsa@elmhurst.edu
END:VEVENT
END:VCALENDAR